BEGIN:VCALENDAR
VERSION:2.0
PRODID:-//Harzfuchs St. Andreasberg - ECPv6.15.20//NONSGML v1.0//EN
CALSCALE:GREGORIAN
METHOD:PUBLISH
X-ORIGINAL-URL:https://www.harzfuchs.de
X-WR-CALDESC:Veranstaltungen für Harzfuchs St. Andreasberg
REFRESH-INTERVAL;VALUE=DURATION:PT1H
X-Robots-Tag:noindex
X-PUBLISHED-TTL:PT1H
BEGIN:VTIMEZONE
TZID:Europe/Berlin
BEGIN:DAYLIGHT
TZOFFSETFROM:+0100
TZOFFSETTO:+0200
TZNAME:CEST
DTSTART:20230326T010000
END:DAYLIGHT
BEGIN:STANDARD
TZOFFSETFROM:+0200
TZOFFSETTO:+0100
TZNAME:CET
DTSTART:20231029T010000
END:STANDARD
BEGIN:DAYLIGHT
TZOFFSETFROM:+0100
TZOFFSETTO:+0200
TZNAME:CEST
DTSTART:20240331T010000
END:DAYLIGHT
BEGIN:STANDARD
TZOFFSETFROM:+0200
TZOFFSETTO:+0100
TZNAME:CET
DTSTART:20241027T010000
END:STANDARD
BEGIN:DAYLIGHT
TZOFFSETFROM:+0100
TZOFFSETTO:+0200
TZNAME:CEST
DTSTART:20250330T010000
END:DAYLIGHT
BEGIN:STANDARD
TZOFFSETFROM:+0200
TZOFFSETTO:+0100
TZNAME:CET
DTSTART:20251026T010000
END:STANDARD
END:VTIMEZONE
BEGIN:VEVENT
DTSTART;TZID=Europe/Berlin:20240929T080000
DTEND;TZID=Europe/Berlin:20240929T170000
DTSTAMP:20260421T163624
CREATED:20240926T085918Z
LAST-MODIFIED:20240926T100059Z
UID:10000026-1727596800-1727629200@www.harzfuchs.de
SUMMARY:Brockenwanderung
DESCRIPTION:Glückauf! \nDie Schützengesellschaft Altenau von 1525 e.V. wandert zum Brocken rauf. Geht aus Altenau los über den Goetheweg. Sind 35 km\, es kann aber auch ab Torhaus mitgelaufen werden. \nWer uns mal kennenlernen möchte\, ist herzlich eingeladen. Wir bauen auch gerade eine Junggesellensparte auf (Frau und Mann). Gäste können immer Mittwochs ab 18 Uhr zum Schießen kommen. \nEs sind aber auch grundsätzlich alle soweit eingeladen
URL:https://www.harzfuchs.de/event/brockenwanderung/
CATEGORIES:Highlight
ATTACH;FMTTYPE=image/png:https://www.harzfuchs.de/wp-content/uploads/2024/09/Brockenwanderung.png
ORGANIZER;CN="Sch%C3%BCtzengesellschaft Altenau von 1525 e.V.":MAILTO:info@schuetzengesellschaft-altenau.de
END:VEVENT
END:VCALENDAR