BEGIN:VCALENDAR
VERSION:2.0
PRODID:-//Harzfuchs St. Andreasberg - ECPv6.15.20//NONSGML v1.0//EN
CALSCALE:GREGORIAN
METHOD:PUBLISH
X-WR-CALNAME:Harzfuchs St. Andreasberg
X-ORIGINAL-URL:https://www.harzfuchs.de
X-WR-CALDESC:Veranstaltungen für Harzfuchs St. Andreasberg
REFRESH-INTERVAL;VALUE=DURATION:PT1H
X-Robots-Tag:noindex
X-PUBLISHED-TTL:PT1H
BEGIN:VTIMEZONE
TZID:Europe/Berlin
BEGIN:DAYLIGHT
TZOFFSETFROM:+0100
TZOFFSETTO:+0200
TZNAME:CEST
DTSTART:20250330T010000
END:DAYLIGHT
BEGIN:STANDARD
TZOFFSETFROM:+0200
TZOFFSETTO:+0100
TZNAME:CET
DTSTART:20251026T010000
END:STANDARD
BEGIN:DAYLIGHT
TZOFFSETFROM:+0100
TZOFFSETTO:+0200
TZNAME:CEST
DTSTART:20260329T010000
END:DAYLIGHT
BEGIN:STANDARD
TZOFFSETFROM:+0200
TZOFFSETTO:+0100
TZNAME:CET
DTSTART:20261025T010000
END:STANDARD
BEGIN:DAYLIGHT
TZOFFSETFROM:+0100
TZOFFSETTO:+0200
TZNAME:CEST
DTSTART:20270328T010000
END:DAYLIGHT
BEGIN:STANDARD
TZOFFSETFROM:+0200
TZOFFSETTO:+0100
TZNAME:CET
DTSTART:20271031T010000
END:STANDARD
END:VTIMEZONE
BEGIN:VEVENT
DTSTART;TZID=Europe/Berlin:20260420T171500
DTEND;TZID=Europe/Berlin:20260420T181500
DTSTAMP:20260420T013133
CREATED:20251222T150316Z
LAST-MODIFIED:20260324T161705Z
UID:10001519-1776705300-1776708900@www.harzfuchs.de
SUMMARY:Damen Seniorengymnastik
DESCRIPTION:Übungen auf dem Hocker oder am Boden\, mit und ohne Geräte \nDamen ab 60 Jahren
URL:https://www.harzfuchs.de/event/damen-seniorengymnastik-2-2-2/2026-04-20/
LOCATION:Turnhalle der Glückauf-Schule\, Katharina-Neufang-Straße 33\, St. Andreasberg\, Niedersachsen\, 37444\, Germany
CATEGORIES:Events
ATTACH;FMTTYPE=image/jpeg:https://www.harzfuchs.de/wp-content/uploads/2024/12/AdobeStock_798111694_web.jpg
END:VEVENT
BEGIN:VEVENT
DTSTART;TZID=Europe/Berlin:20260420T181500
DTEND;TZID=Europe/Berlin:20260420T191500
DTSTAMP:20260420T013133
CREATED:20251222T145557Z
LAST-MODIFIED:20260324T161854Z
UID:10001536-1776708900-1776712500@www.harzfuchs.de
SUMMARY:Bauch\, Beine\, Po – Fitness für alle!
DESCRIPTION:Der TSC St. Andreasberg lädt ein zu einem abwechslungsreichen Workout: Aerobiceinheiten und Kräftigungsübungen für alle Muskelgruppen\, mit und ohne Geräte. Egal ob jung oder alt\, Anfänger oder Fortgeschrittene – diese Veranstaltung ist für alle Altersgruppen offen! \nDas Angebot richtet sich grundsätzlich an Mitglieder des TSC St. Andreasberg. Besucher sind jedoch herzlich willkommen\, um an einem unverbindlichen Probetraining teilzunehmen und unser Programm kennenzulernen. \nTrainieren Sie in einer motivierenden Atmosphäre\, stärken Sie Ihre Muskulatur und verbessern Sie Ihre Fitness. Kommen Sie vorbei und machen Sie mit! \nWir freuen uns auf Sie!
URL:https://www.harzfuchs.de/event/bauch-beine-po-2-2-2/2026-04-20/
LOCATION:Turnhalle der Glückauf-Schule\, Katharina-Neufang-Straße 33\, St. Andreasberg\, Niedersachsen\, 37444\, Germany
CATEGORIES:Events
ATTACH;FMTTYPE=image/jpeg:https://www.harzfuchs.de/wp-content/uploads/2024/12/AdobeStock_85824888_bauch-beine-po.jpg
END:VEVENT
END:VCALENDAR